BEGIN:VCALENDAR
VERSION:2.0
PRODID:-//Department Of Education//c1c54285-2097-4346-8dfb-1b38dcfa2265
BEGIN:VTIMEZONE
TZID:Australia/Sydney
TZURL:http://tzurl.org/zoneinfo-outlook/Australia/Sydney
X-LIC-LOCATION:Australia/Sydney
BEGIN:STANDARD
TZOFFSETFROM:+1100
TZOFFSETTO:+1000
TZNAME:AEST
DTSTART:19700405T030000
RRULE:FREQ=YEARLY;BYMONTH=4;BYDAY=1SU
END:STANDARD
BEGIN:DAYLIGHT
TZOFFSETFROM:+1000
TZOFFSETTO:+1100
TZNAME:AEDT
DTSTART:19701004T020000
RRULE:FREQ=YEARLY;BYMONTH=10;BYDAY=1SU
END:DAYLIGHT
END:VTIMEZONE
CALSCALE:GREGORIAN
X-WR-TIMEZONE:Australia/Sydney
BEGIN:VEVENT
DTSTART;TZID=Australia/Sydney:20160406T114500
DTEND;TZID=Australia/Sydney:20160406T121500
DTSTAMP:20160406T114500Z
UID:3ff82b14-74c8-465e-b81e-b6532a15eb03
LOCATION:
SUMMARY;LANGUAGE=en-us:Anzac Assembly
SEQUENCE:0
DESCRIPTION:School Hall everyone welcome to attend
END:VEVENT
TRANSP:TRANSPARENT
END:VCALENDAR
