BEGIN:VCALENDAR
VERSION:2.0
PRODID:-//Department Of Education//343d3906-1640-4742-9035-451c3ee3d3c3
BEGIN:VTIMEZONE
TZID:Australia/Sydney
TZURL:http://tzurl.org/zoneinfo-outlook/Australia/Sydney
X-LIC-LOCATION:Australia/Sydney
BEGIN:STANDARD
TZOFFSETFROM:+1100
TZOFFSETTO:+1000
TZNAME:AEST
DTSTART:19700405T030000
RRULE:FREQ=YEARLY;BYMONTH=4;BYDAY=1SU
END:STANDARD
BEGIN:DAYLIGHT
TZOFFSETFROM:+1000
TZOFFSETTO:+1100
TZNAME:AEDT
DTSTART:19701004T020000
RRULE:FREQ=YEARLY;BYMONTH=10;BYDAY=1SU
END:DAYLIGHT
END:VTIMEZONE
CALSCALE:GREGORIAN
X-WR-TIMEZONE:Australia/Sydney
BEGIN:VEVENT
DTSTART;TZID=Australia/Sydney:20160601T093000
DTEND;TZID=Australia/Sydney:20160601T094500
DTSTAMP:20160601T093000Z
UID:5f312350-5bd0-45bb-b2e3-bdcc26651de5
LOCATION:
SUMMARY;LANGUAGE=en-us:Author Talk - Ruben Meerman
SEQUENCE:0
DESCRIPTION:School Hall
END:VEVENT
TRANSP:TRANSPARENT
END:VCALENDAR
