BEGIN:VCALENDAR
VERSION:2.0
PRODID:-//Department Of Education//14f59613-8895-4953-92c6-53f3a76f2ec3
BEGIN:VTIMEZONE
TZID:Australia/Sydney
TZURL:http://tzurl.org/zoneinfo-outlook/Australia/Sydney
X-LIC-LOCATION:Australia/Sydney
BEGIN:STANDARD
TZOFFSETFROM:+1100
TZOFFSETTO:+1000
TZNAME:AEST
DTSTART:19700405T030000
RRULE:FREQ=YEARLY;BYMONTH=4;BYDAY=1SU
END:STANDARD
BEGIN:DAYLIGHT
TZOFFSETFROM:+1000
TZOFFSETTO:+1100
TZNAME:AEDT
DTSTART:19701004T020000
RRULE:FREQ=YEARLY;BYMONTH=10;BYDAY=1SU
END:DAYLIGHT
END:VTIMEZONE
CALSCALE:GREGORIAN
X-WR-TIMEZONE:Australia/Sydney
BEGIN:VEVENT
DTSTART;VALUE=DATE:20160606
DTEND;VALUE=DATE:20160607
DTSTAMP:20160606T000000Z
UID:7000ef00-a170-4b0c-87f9-cbe810e519d1
LOCATION:
SUMMARY;LANGUAGE=en-us:PSSA Basketball Girls
SEQUENCE:0
DESCRIPTION:Lismore- Private transport
END:VEVENT
TRANSP:TRANSPARENT
END:VCALENDAR
