BEGIN:VCALENDAR
VERSION:2.0
PRODID:-//Department Of Education//6beb36af-0ff0-4324-bc15-7cd19bcd7260
BEGIN:VTIMEZONE
TZID:Australia/Sydney
TZURL:http://tzurl.org/zoneinfo-outlook/Australia/Sydney
X-LIC-LOCATION:Australia/Sydney
BEGIN:STANDARD
TZOFFSETFROM:+1100
TZOFFSETTO:+1000
TZNAME:AEST
DTSTART:19700405T030000
RRULE:FREQ=YEARLY;BYMONTH=4;BYDAY=1SU
END:STANDARD
BEGIN:DAYLIGHT
TZOFFSETFROM:+1000
TZOFFSETTO:+1100
TZNAME:AEDT
DTSTART:19701004T020000
RRULE:FREQ=YEARLY;BYMONTH=10;BYDAY=1SU
END:DAYLIGHT
END:VTIMEZONE
CALSCALE:GREGORIAN
X-WR-TIMEZONE:Australia/Sydney
BEGIN:VEVENT
DTSTART;TZID=Australia/Sydney:20160602T093000
DTEND;TZID=Australia/Sydney:20160602T110000
DTSTAMP:20160602T093000Z
UID:c46fd4f7-de04-4520-a4f3-d1c00b7cfb5f
LOCATION:
SUMMARY;LANGUAGE=en-us:PSSA Netball
SEQUENCE:0
DESCRIPTION:Wherrett Park Maclean\ 10am start
END:VEVENT
TRANSP:TRANSPARENT
END:VCALENDAR
