BEGIN:VCALENDAR
VERSION:2.0
PRODID:-//Department Of Education//8f88201d-b8b2-4dd4-8509-f1cdfe6533ce
BEGIN:VTIMEZONE
TZID:Australia/Sydney
TZURL:http://tzurl.org/zoneinfo-outlook/Australia/Sydney
X-LIC-LOCATION:Australia/Sydney
BEGIN:STANDARD
TZOFFSETFROM:+1100
TZOFFSETTO:+1000
TZNAME:AEST
DTSTART:19700405T030000
RRULE:FREQ=YEARLY;BYMONTH=4;BYDAY=1SU
END:STANDARD
BEGIN:DAYLIGHT
TZOFFSETFROM:+1000
TZOFFSETTO:+1100
TZNAME:AEDT
DTSTART:19701004T020000
RRULE:FREQ=YEARLY;BYMONTH=10;BYDAY=1SU
END:DAYLIGHT
END:VTIMEZONE
CALSCALE:GREGORIAN
X-WR-TIMEZONE:Australia/Sydney
BEGIN:VEVENT
DTSTART;TZID=Australia/Sydney:20160609T114500
DTEND;TZID=Australia/Sydney:20160609T131500
DTSTAMP:20160609T114500Z
UID:c41e8c0c-2bc2-46ff-9a91-937d0d81376f
LOCATION:
SUMMARY;LANGUAGE=en-us:Responsible Pet Program
SEQUENCE:0
DESCRIPTION:K-2
END:VEVENT
TRANSP:TRANSPARENT
END:VCALENDAR
