BEGIN:VCALENDAR
VERSION:2.0
PRODID:-//Department Of Education//c4e43cdd-8c1f-4863-8e35-bf3931e0498d
BEGIN:VTIMEZONE
TZID:Australia/Sydney
TZURL:http://tzurl.org/zoneinfo-outlook/Australia/Sydney
X-LIC-LOCATION:Australia/Sydney
BEGIN:STANDARD
TZOFFSETFROM:+1100
TZOFFSETTO:+1000
TZNAME:AEST
DTSTART:19700405T030000
RRULE:FREQ=YEARLY;BYMONTH=4;BYDAY=1SU
END:STANDARD
BEGIN:DAYLIGHT
TZOFFSETFROM:+1000
TZOFFSETTO:+1100
TZNAME:AEDT
DTSTART:19701004T020000
RRULE:FREQ=YEARLY;BYMONTH=10;BYDAY=1SU
END:DAYLIGHT
END:VTIMEZONE
CALSCALE:GREGORIAN
X-WR-TIMEZONE:Australia/Sydney
BEGIN:VEVENT
DTSTART;TZID=Australia/Sydney:20160805T090000
DTEND;TZID=Australia/Sydney:20160805T150000
DTSTAMP:20160805T090000Z
UID:2587aafd-46e9-4d42-a101-7764e51b88a4
LOCATION:
SUMMARY;LANGUAGE=en-us:Byron Bay Writers Festival
SEQUENCE:0
DESCRIPTION:Held in our school hall
END:VEVENT
TRANSP:TRANSPARENT
END:VCALENDAR
