BEGIN:VCALENDAR
VERSION:2.0
PRODID:-//Department Of Education//51e84c85-b508-4bb9-a1f8-965d72b74a74
BEGIN:VTIMEZONE
TZID:Australia/Sydney
TZURL:http://tzurl.org/zoneinfo-outlook/Australia/Sydney
X-LIC-LOCATION:Australia/Sydney
BEGIN:STANDARD
TZOFFSETFROM:+1100
TZOFFSETTO:+1000
TZNAME:AEST
DTSTART:19700405T030000
RRULE:FREQ=YEARLY;BYMONTH=4;BYDAY=1SU
END:STANDARD
BEGIN:DAYLIGHT
TZOFFSETFROM:+1000
TZOFFSETTO:+1100
TZNAME:AEDT
DTSTART:19701004T020000
RRULE:FREQ=YEARLY;BYMONTH=10;BYDAY=1SU
END:DAYLIGHT
END:VTIMEZONE
CALSCALE:GREGORIAN
X-WR-TIMEZONE:Australia/Sydney
BEGIN:VEVENT
DTSTART;VALUE=DATE:20160810
DTEND;VALUE=DATE:20160811
DTSTAMP:20160810T000000Z
UID:fa1402cc-b240-4b54-a361-d5dbb7fde747
LOCATION:
SUMMARY;LANGUAGE=en-us:Chess Comp
SEQUENCE:0
DESCRIPTION:Chess Comp held in school hall today
END:VEVENT
TRANSP:TRANSPARENT
END:VCALENDAR
