BEGIN:VCALENDAR
VERSION:2.0
PRODID:-//Department Of Education//531685b7-8553-4ba8-8f94-08e0a1b53b42
BEGIN:VTIMEZONE
TZID:Australia/Sydney
TZURL:http://tzurl.org/zoneinfo-outlook/Australia/Sydney
X-LIC-LOCATION:Australia/Sydney
BEGIN:STANDARD
TZOFFSETFROM:+1100
TZOFFSETTO:+1000
TZNAME:AEST
DTSTART:19700405T030000
RRULE:FREQ=YEARLY;BYMONTH=4;BYDAY=1SU
END:STANDARD
BEGIN:DAYLIGHT
TZOFFSETFROM:+1000
TZOFFSETTO:+1100
TZNAME:AEDT
DTSTART:19701004T020000
RRULE:FREQ=YEARLY;BYMONTH=10;BYDAY=1SU
END:DAYLIGHT
END:VTIMEZONE
CALSCALE:GREGORIAN
X-WR-TIMEZONE:Australia/Sydney
BEGIN:VEVENT
DTSTART;VALUE=DATE:20160811
DTEND;VALUE=DATE:20160812
DTSTAMP:20160811T000000Z
UID:2ebd89e1-9229-478f-8691-7b9dd7459386
LOCATION:
SUMMARY;LANGUAGE=en-us:Westpac Helicopter Mufti Day
SEQUENCE:0
DESCRIPTION:Gold Coin Donation Come dressed in Red and Yellow in support of Westpac Halicopter
END:VEVENT
TRANSP:TRANSPARENT
END:VCALENDAR
