BEGIN:VCALENDAR
VERSION:2.0
PRODID:-//Department Of Education//cc0353c4-76be-4040-baaa-f7901b62da88
BEGIN:VTIMEZONE
TZID:Australia/Sydney
TZURL:http://tzurl.org/zoneinfo-outlook/Australia/Sydney
X-LIC-LOCATION:Australia/Sydney
BEGIN:STANDARD
TZOFFSETFROM:+1100
TZOFFSETTO:+1000
TZNAME:AEST
DTSTART:19700405T030000
RRULE:FREQ=YEARLY;BYMONTH=4;BYDAY=1SU
END:STANDARD
BEGIN:DAYLIGHT
TZOFFSETFROM:+1000
TZOFFSETTO:+1100
TZNAME:AEDT
DTSTART:19701004T020000
RRULE:FREQ=YEARLY;BYMONTH=10;BYDAY=1SU
END:DAYLIGHT
END:VTIMEZONE
CALSCALE:GREGORIAN
X-WR-TIMEZONE:Australia/Sydney
BEGIN:VEVENT
DTSTART;TZID=Australia/Sydney:20160812T114500
DTEND;TZID=Australia/Sydney:20160812T123000
DTSTAMP:20160812T114500Z
UID:69523a0e-a7c8-4292-b6a6-afe391d577fa
LOCATION:
SUMMARY;LANGUAGE=en-us:Whole School Assembly
SEQUENCE:0
DESCRIPTION:School hall- everyone welcome
END:VEVENT
TRANSP:TRANSPARENT
END:VCALENDAR
