BEGIN:VCALENDAR
VERSION:2.0
PRODID:-//Department Of Education//cb38687a-15a8-402e-8c3e-7465a00393f1
BEGIN:VTIMEZONE
TZID:Australia/Sydney
TZURL:http://tzurl.org/zoneinfo-outlook/Australia/Sydney
X-LIC-LOCATION:Australia/Sydney
BEGIN:STANDARD
TZOFFSETFROM:+1100
TZOFFSETTO:+1000
TZNAME:AEST
DTSTART:19700405T030000
RRULE:FREQ=YEARLY;BYMONTH=4;BYDAY=1SU
END:STANDARD
BEGIN:DAYLIGHT
TZOFFSETFROM:+1000
TZOFFSETTO:+1100
TZNAME:AEDT
DTSTART:19701004T020000
RRULE:FREQ=YEARLY;BYMONTH=10;BYDAY=1SU
END:DAYLIGHT
END:VTIMEZONE
CALSCALE:GREGORIAN
X-WR-TIMEZONE:Australia/Sydney
BEGIN:VEVENT
DTSTART;TZID=Australia/Sydney:20160826T114500
DTEND;TZID=Australia/Sydney:20160826T123000
DTSTAMP:20160826T114500Z
UID:c37ee313-e4d2-499a-9b2b-c5a9a5257ac6
LOCATION:
SUMMARY;LANGUAGE=en-us:Whole School Assembly
SEQUENCE:0
DESCRIPTION:School Hall- all welcome
END:VEVENT
TRANSP:TRANSPARENT
END:VCALENDAR
