BEGIN:VCALENDAR
VERSION:2.0
PRODID:-//Department Of Education//f6d8e73e-132f-4972-95fe-23556a9f9fcc
BEGIN:VTIMEZONE
TZID:Australia/Sydney
TZURL:http://tzurl.org/zoneinfo-outlook/Australia/Sydney
X-LIC-LOCATION:Australia/Sydney
BEGIN:STANDARD
TZOFFSETFROM:+1100
TZOFFSETTO:+1000
TZNAME:AEST
DTSTART:19700405T030000
RRULE:FREQ=YEARLY;BYMONTH=4;BYDAY=1SU
END:STANDARD
BEGIN:DAYLIGHT
TZOFFSETFROM:+1000
TZOFFSETTO:+1100
TZNAME:AEDT
DTSTART:19701004T020000
RRULE:FREQ=YEARLY;BYMONTH=10;BYDAY=1SU
END:DAYLIGHT
END:VTIMEZONE
CALSCALE:GREGORIAN
X-WR-TIMEZONE:Australia/Sydney
BEGIN:VEVENT
DTSTART;TZID=Australia/Sydney:20180510T090000
DTEND;TZID=Australia/Sydney:20180510T150000
DTSTAMP:20180510T090000Z
UID:395ecdcc-a890-4c07-a4e3-8f51a6aee156
LOCATION:
SUMMARY;LANGUAGE=en-us:GRIP Leadership Conference
SEQUENCE:0
DESCRIPTION:Year 6 - Lismore travel by bus
END:VEVENT
TRANSP:TRANSPARENT
END:VCALENDAR
